BEGIN:VCALENDAR
VERSION:2.0
PRODID:-//eventon.com NONSGML v1.0//EN
BEGIN:VEVENT
UID:69ea6ffc8e789
DTSTAMP:20260423T211612
DTSTART:20260529T170000Z
DTEND:20260529T190000Z
LOCATION:
SUMMARY:GV Verein Museum im Bellpark
DESCRIPTION: PROTOKOLL TRIFFT PINOT Ein Abend zwischen Rückblick und Ausblick\,  Zahlen und Geschichten. Nach dem offiziellen Teil - kurz\,  klar\,  freundlich - bleibt Zeit für Gespräche\,  Begegnungen und ein Glas Wein im Garten. Wir berichten über kommende Ausstellungen\,  geplante Projekte und geben erste Einblicke in das kommende Jahresprogramm. Dies ist eine[..]
END:VEVENT
END:VCALENDAR